BEGIN:VCALENDAR
VERSION:2.0
PRODID:LFV Website-Kit
METHOD:PUBLISH
BEGIN:VEVENT
UID:lfv-2fd81e23-40be-4990-a14e-99fb45aab9a3
LOCATION:Bahnhofstraße 57 84130 Dingolfing-Höfen
SUMMARY:Traditionelle Weihnachtsfeier
DESCRIPTION:mit Christbaumversteigerung\n\nTermin Link: https://www.ff-hoefen.de/termine/weihnachtsfeier/
URL:https://www.ff-hoefen.de/termine/weihnachtsfeier/
CLASS:PRIVATE
DTSTART;TZID=Europe/Berlin:20251213T190000
DTEND;TZID=Europe/Berlin:20251213T200000
DTSTAMP:20260421T084628Z
END:VEVENT
END:VCALENDAR